BEGIN:VCALENDAR
VERSION:2.0
PRODID:https://www.eppstein-pfalz.de//10143346

BEGIN:VTIMEZONE
TZID:CET
BEGIN:DAYLIGHT
TZOFFSETFROM:+0100
TZOFFSETTO:+0200
TZNAME:Central European Summer Time
DTSTART:20260329T020000
RRULE:FREQ=YEARLY;BYDAY=-1SU;BYMONTH=3
END:DAYLIGHT
BEGIN:STANDARD
TZOFFSETFROM:+0200
TZOFFSETTO:+0100
TZNAME:Central European Time
DTSTART:20261025T030000
RRULE:FREQ=YEARLY;BYDAY=-1SU;BYMONTH=10
END:STANDARD
END:VTIMEZONE

BEGIN:VEVENT
UID:10122597.10143346.www.eppstein-pfalz.de
LOCATION:Abfallbezirk 16
SUMMARY:Altpapier
DESCRIPTION:
CLASS:PUBLIC
DTSTART;VALUE=DATE:20260424
DTSTART;VALUE=DATE:20260424
DTSTAMP:20260421T083036
END:VEVENT

BEGIN:VEVENT
UID:10122235.10143346.www.eppstein-pfalz.de
LOCATION:Abfallbezirk 14
SUMMARY:Bioabfall
DESCRIPTION:
CLASS:PUBLIC
DTSTART;VALUE=DATE:20260424
DTSTART;VALUE=DATE:20260424
DTSTAMP:20260421T083036
END:VEVENT

BEGIN:VEVENT
UID:10124282.10143346.www.eppstein-pfalz.de
LOCATION:Isenach Sporthalle
SUMMARY:Seniorennachmittag der AWO
DESCRIPTION:trotz Feiertag 
CLASS:PUBLIC
DTSTART;TZID=CET:20260501T140000
DTEND;TZID=CET:20260501T140000
DTSTAMP:20260421T083036
END:VEVENT

BEGIN:VEVENT
UID:10122508.10143346.www.eppstein-pfalz.de
LOCATION:Abfallbezirk 16
SUMMARY:Bioabfall
DESCRIPTION:
CLASS:PUBLIC
DTSTART;VALUE=DATE:20260502
DTSTART;VALUE=DATE:20260502
DTSTAMP:20260421T083036
END:VEVENT

BEGIN:VEVENT
UID:10122325.10143346.www.eppstein-pfalz.de
LOCATION:Abfallbezirk 14
SUMMARY:Restabfall
DESCRIPTION:
CLASS:PUBLIC
DTSTART;VALUE=DATE:20260502
DTSTART;VALUE=DATE:20260502
DTSTAMP:20260421T083036
END:VEVENT

BEGIN:VEVENT
UID:10122104.10143346.www.eppstein-pfalz.de
LOCATION:Abfallbezirke 14/16
SUMMARY:Wertstoffe
DESCRIPTION:
CLASS:PUBLIC
DTSTART;VALUE=DATE:20260504
DTSTART;VALUE=DATE:20260504
DTSTAMP:20260421T083036
END:VEVENT

BEGIN:VEVENT
UID:10122239.10143346.www.eppstein-pfalz.de
LOCATION:Abfallbezirk 14
SUMMARY:Bioabfall
DESCRIPTION:
CLASS:PUBLIC
DTSTART;VALUE=DATE:20260508
DTSTART;VALUE=DATE:20260508
DTSTAMP:20260421T083036
END:VEVENT

BEGIN:VEVENT
UID:10122442.10143346.www.eppstein-pfalz.de
LOCATION:Abfallbezirk 16
SUMMARY:Restabfall
DESCRIPTION:
CLASS:PUBLIC
DTSTART;VALUE=DATE:20260508
DTSTART;VALUE=DATE:20260508
DTSTAMP:20260421T083036
END:VEVENT

BEGIN:VEVENT
UID:10124443.10143346.www.eppstein-pfalz.de
LOCATION:DJK Eppstein
SUMMARY:Eppsteiner SeniorenTreff
DESCRIPTION:
CLASS:PUBLIC
DTSTART;TZID=CET:20260508T130000
DTEND;TZID=CET:20260508T130000
DTSTAMP:20260421T083036
END:VEVENT

BEGIN:VEVENT
UID:10124284.10143346.www.eppstein-pfalz.de
LOCATION:Isenach Sporthalle
SUMMARY:Seniorennachmittag der AWO
DESCRIPTION:
CLASS:PUBLIC
DTSTART;TZID=CET:20260515T140000
DTEND;TZID=CET:20260515T140000
DTSTAMP:20260421T083036
END:VEVENT

BEGIN:VEVENT
UID:10122380.10143346.www.eppstein-pfalz.de
LOCATION:Abfallbezirk 14
SUMMARY:Altpapier
DESCRIPTION:
CLASS:PUBLIC
DTSTART;VALUE=DATE:20260516
DTSTART;VALUE=DATE:20260516
DTSTAMP:20260421T083036
END:VEVENT

BEGIN:VEVENT
UID:10122512.10143346.www.eppstein-pfalz.de
LOCATION:Abfallbezirk 16
SUMMARY:Bioabfall
DESCRIPTION:
CLASS:PUBLIC
DTSTART;VALUE=DATE:20260516
DTSTART;VALUE=DATE:20260516
DTSTAMP:20260421T083036
END:VEVENT

BEGIN:VEVENT
UID:10122109.10143346.www.eppstein-pfalz.de
LOCATION:Abfallbezirke 14/16
SUMMARY:Wertstoffe
DESCRIPTION:
CLASS:PUBLIC
DTSTART;VALUE=DATE:20260518
DTSTART;VALUE=DATE:20260518
DTSTAMP:20260421T083036
END:VEVENT

BEGIN:VEVENT
UID:10122601.10143346.www.eppstein-pfalz.de
LOCATION:Abfallbezirk 16
SUMMARY:Altpapier
DESCRIPTION:
CLASS:PUBLIC
DTSTART;VALUE=DATE:20260522
DTSTART;VALUE=DATE:20260522
DTSTAMP:20260421T083036
END:VEVENT

BEGIN:VEVENT
UID:10122243.10143346.www.eppstein-pfalz.de
LOCATION:Abfallbezirk 14
SUMMARY:Bioabfall
DESCRIPTION:
CLASS:PUBLIC
DTSTART;VALUE=DATE:20260522
DTSTART;VALUE=DATE:20260522
DTSTAMP:20260421T083036
END:VEVENT

BEGIN:VEVENT
UID:10122516.10143346.www.eppstein-pfalz.de
LOCATION:Abfallbezirk 16
SUMMARY:Bioabfall
DESCRIPTION:
CLASS:PUBLIC
DTSTART;VALUE=DATE:20260530
DTSTART;VALUE=DATE:20260530
DTSTAMP:20260421T083036
END:VEVENT

BEGIN:VEVENT
UID:10122329.10143346.www.eppstein-pfalz.de
LOCATION:Abfallbezirk 14
SUMMARY:Restabfall
DESCRIPTION:
CLASS:PUBLIC
DTSTART;VALUE=DATE:20260530
DTSTART;VALUE=DATE:20260530
DTSTAMP:20260421T083036
END:VEVENT

BEGIN:VEVENT
UID:10122114.10143346.www.eppstein-pfalz.de
LOCATION:Abfallbezirke 14/16
SUMMARY:Wertstoffe
DESCRIPTION:
CLASS:PUBLIC
DTSTART;VALUE=DATE:20260601
DTSTART;VALUE=DATE:20260601
DTSTAMP:20260421T083036
END:VEVENT

BEGIN:VEVENT
UID:10124286.10143346.www.eppstein-pfalz.de
LOCATION:Isenach Sporthalle
SUMMARY:Seniorennachmittag der AWO
DESCRIPTION:
CLASS:PUBLIC
DTSTART;TZID=CET:20260605T140000
DTEND;TZID=CET:20260605T140000
DTSTAMP:20260421T083036
END:VEVENT

BEGIN:VEVENT
UID:10122247.10143346.www.eppstein-pfalz.de
LOCATION:Abfallbezirk 14
SUMMARY:Bioabfall
DESCRIPTION:
CLASS:PUBLIC
DTSTART;VALUE=DATE:20260606
DTSTART;VALUE=DATE:20260606
DTSTAMP:20260421T083036
END:VEVENT

BEGIN:VEVENT
UID:10122446.10143346.www.eppstein-pfalz.de
LOCATION:Abfallbezirk 16
SUMMARY:Restabfall
DESCRIPTION:
CLASS:PUBLIC
DTSTART;VALUE=DATE:20260606
DTSTART;VALUE=DATE:20260606
DTSTAMP:20260421T083036
END:VEVENT

BEGIN:VEVENT
UID:10122384.10143346.www.eppstein-pfalz.de
LOCATION:Abfallbezirk 14
SUMMARY:Altpapier
DESCRIPTION:
CLASS:PUBLIC
DTSTART;VALUE=DATE:20260612
DTSTART;VALUE=DATE:20260612
DTSTAMP:20260421T083036
END:VEVENT

BEGIN:VEVENT
UID:10122520.10143346.www.eppstein-pfalz.de
LOCATION:Abfallbezirk 16
SUMMARY:Bioabfall
DESCRIPTION:
CLASS:PUBLIC
DTSTART;VALUE=DATE:20260612
DTSTART;VALUE=DATE:20260612
DTSTAMP:20260421T083036
END:VEVENT

BEGIN:VEVENT
UID:10124441.10143346.www.eppstein-pfalz.de
LOCATION:DJK Eppstein
SUMMARY:Eppsteiner SeniorenTreff
DESCRIPTION:
CLASS:PUBLIC
DTSTART;TZID=CET:20260612T130000
DTEND;TZID=CET:20260612T130000
DTSTAMP:20260421T083036
END:VEVENT

BEGIN:VEVENT
UID:10122119.10143346.www.eppstein-pfalz.de
LOCATION:Abfallbezirke 14/16
SUMMARY:Wertstoffe
DESCRIPTION:
CLASS:PUBLIC
DTSTART;VALUE=DATE:20260615
DTSTART;VALUE=DATE:20260615
DTSTAMP:20260421T083036
END:VEVENT

BEGIN:VEVENT
UID:10122605.10143346.www.eppstein-pfalz.de
LOCATION:Abfallbezirk 16
SUMMARY:Altpapier
DESCRIPTION:
CLASS:PUBLIC
DTSTART;VALUE=DATE:20260619
DTSTART;VALUE=DATE:20260619
DTSTAMP:20260421T083036
END:VEVENT

BEGIN:VEVENT
UID:10122251.10143346.www.eppstein-pfalz.de
LOCATION:Abfallbezirk 14
SUMMARY:Bioabfall
DESCRIPTION:
CLASS:PUBLIC
DTSTART;VALUE=DATE:20260619
DTSTART;VALUE=DATE:20260619
DTSTAMP:20260421T083036
END:VEVENT

BEGIN:VEVENT
UID:10124288.10143346.www.eppstein-pfalz.de
LOCATION:Isenach Sporthalle
SUMMARY:Seniorennachmittag der AWO
DESCRIPTION:
CLASS:PUBLIC
DTSTART;TZID=CET:20260619T140000
DTEND;TZID=CET:20260619T140000
DTSTAMP:20260421T083036
END:VEVENT

BEGIN:VEVENT
UID:10122524.10143346.www.eppstein-pfalz.de
LOCATION:Abfallbezirk 16
SUMMARY:Bioabfall
DESCRIPTION:
CLASS:PUBLIC
DTSTART;VALUE=DATE:20260626
DTSTART;VALUE=DATE:20260626
DTSTAMP:20260421T083036
END:VEVENT

BEGIN:VEVENT
UID:10122333.10143346.www.eppstein-pfalz.de
LOCATION:Abfallbezirk 14
SUMMARY:Restabfall
DESCRIPTION:
CLASS:PUBLIC
DTSTART;VALUE=DATE:20260626
DTSTART;VALUE=DATE:20260626
DTSTAMP:20260421T083036
END:VEVENT

BEGIN:VEVENT
UID:10122124.10143346.www.eppstein-pfalz.de
LOCATION:Abfallbezirke 14/16
SUMMARY:Wertstoffe
DESCRIPTION:
CLASS:PUBLIC
DTSTART;VALUE=DATE:20260629
DTSTART;VALUE=DATE:20260629
DTSTAMP:20260421T083036
END:VEVENT

BEGIN:VEVENT
UID:10122255.10143346.www.eppstein-pfalz.de
LOCATION:Abfallbezirk 14
SUMMARY:Bioabfall
DESCRIPTION:
CLASS:PUBLIC
DTSTART;VALUE=DATE:20260703
DTSTART;VALUE=DATE:20260703
DTSTAMP:20260421T083036
END:VEVENT

BEGIN:VEVENT
UID:10122450.10143346.www.eppstein-pfalz.de
LOCATION:Abfallbezirk 16
SUMMARY:Restabfall
DESCRIPTION:
CLASS:PUBLIC
DTSTART;VALUE=DATE:20260703
DTSTART;VALUE=DATE:20260703
DTSTAMP:20260421T083036
END:VEVENT

BEGIN:VEVENT
UID:10124341.10143346.www.eppstein-pfalz.de
LOCATION:Isenach Sporthalle
SUMMARY:Seniorennachmittag der AWO
DESCRIPTION:
CLASS:PUBLIC
DTSTART;TZID=CET:20260703T140000
DTEND;TZID=CET:20260703T140000
DTSTAMP:20260421T083036
END:VEVENT

BEGIN:VEVENT
UID:10122388.10143346.www.eppstein-pfalz.de
LOCATION:Abfallbezirk 14
SUMMARY:Altpapier
DESCRIPTION:
CLASS:PUBLIC
DTSTART;VALUE=DATE:20260710
DTSTART;VALUE=DATE:20260710
DTSTAMP:20260421T083036
END:VEVENT

BEGIN:VEVENT
UID:10122528.10143346.www.eppstein-pfalz.de
LOCATION:Abfallbezirk 16
SUMMARY:Bioabfall
DESCRIPTION:
CLASS:PUBLIC
DTSTART;VALUE=DATE:20260710
DTSTART;VALUE=DATE:20260710
DTSTAMP:20260421T083036
END:VEVENT

BEGIN:VEVENT
UID:10122129.10143346.www.eppstein-pfalz.de
LOCATION:Abfallbezirke 14/16
SUMMARY:Wertstoffe
DESCRIPTION:
CLASS:PUBLIC
DTSTART;VALUE=DATE:20260713
DTSTART;VALUE=DATE:20260713
DTSTAMP:20260421T083036
END:VEVENT

BEGIN:VEVENT
UID:10122609.10143346.www.eppstein-pfalz.de
LOCATION:Abfallbezirk 16
SUMMARY:Altpapier
DESCRIPTION:
CLASS:PUBLIC
DTSTART;VALUE=DATE:20260717
DTSTART;VALUE=DATE:20260717
DTSTAMP:20260421T083036
END:VEVENT

BEGIN:VEVENT
UID:10122259.10143346.www.eppstein-pfalz.de
LOCATION:Abfallbezirk 14
SUMMARY:Bioabfall
DESCRIPTION:
CLASS:PUBLIC
DTSTART;VALUE=DATE:20260717
DTSTART;VALUE=DATE:20260717
DTSTAMP:20260421T083036
END:VEVENT

BEGIN:VEVENT
UID:10124343.10143346.www.eppstein-pfalz.de
LOCATION:Isenach Sporthalle
SUMMARY:Seniorennachmittag der AWO
DESCRIPTION:
CLASS:PUBLIC
DTSTART;TZID=CET:20260717T140000
DTEND;TZID=CET:20260717T140000
DTSTAMP:20260421T083036
END:VEVENT

BEGIN:VEVENT
UID:10122532.10143346.www.eppstein-pfalz.de
LOCATION:Abfallbezirk 16
SUMMARY:Bioabfall
DESCRIPTION:
CLASS:PUBLIC
DTSTART;VALUE=DATE:20260724
DTSTART;VALUE=DATE:20260724
DTSTAMP:20260421T083036
END:VEVENT

BEGIN:VEVENT
UID:10122337.10143346.www.eppstein-pfalz.de
LOCATION:Abfallbezirk 14
SUMMARY:Restabfall
DESCRIPTION:
CLASS:PUBLIC
DTSTART;VALUE=DATE:20260724
DTSTART;VALUE=DATE:20260724
DTSTAMP:20260421T083036
END:VEVENT

BEGIN:VEVENT
UID:10122134.10143346.www.eppstein-pfalz.de
LOCATION:Abfallbezirke 14/16
SUMMARY:Wertstoffe
DESCRIPTION:
CLASS:PUBLIC
DTSTART;VALUE=DATE:20260727
DTSTART;VALUE=DATE:20260727
DTSTAMP:20260421T083036
END:VEVENT

BEGIN:VEVENT
UID:10122263.10143346.www.eppstein-pfalz.de
LOCATION:Abfallbezirk 14
SUMMARY:Bioabfall
DESCRIPTION:
CLASS:PUBLIC
DTSTART;VALUE=DATE:20260731
DTSTART;VALUE=DATE:20260731
DTSTAMP:20260421T083036
END:VEVENT

BEGIN:VEVENT
UID:10122454.10143346.www.eppstein-pfalz.de
LOCATION:Abfallbezirk 16
SUMMARY:Restabfall
DESCRIPTION:
CLASS:PUBLIC
DTSTART;VALUE=DATE:20260731
DTSTART;VALUE=DATE:20260731
DTSTAMP:20260421T083036
END:VEVENT

BEGIN:VEVENT
UID:10122392.10143346.www.eppstein-pfalz.de
LOCATION:Abfallbezirk 14
SUMMARY:Altpapier
DESCRIPTION:
CLASS:PUBLIC
DTSTART;VALUE=DATE:20260807
DTSTART;VALUE=DATE:20260807
DTSTAMP:20260421T083036
END:VEVENT

BEGIN:VEVENT
UID:10122536.10143346.www.eppstein-pfalz.de
LOCATION:Abfallbezirk 16
SUMMARY:Bioabfall
DESCRIPTION:
CLASS:PUBLIC
DTSTART;VALUE=DATE:20260807
DTSTART;VALUE=DATE:20260807
DTSTAMP:20260421T083036
END:VEVENT

BEGIN:VEVENT
UID:10124345.10143346.www.eppstein-pfalz.de
LOCATION:Isenach Sporthalle
SUMMARY:Seniorennachmittag der AWO
DESCRIPTION:
CLASS:PUBLIC
DTSTART;TZID=CET:20260807T140000
DTEND;TZID=CET:20260807T140000
DTSTAMP:20260421T083036
END:VEVENT

BEGIN:VEVENT
UID:10122139.10143346.www.eppstein-pfalz.de
LOCATION:Abfallbezirke 14/16
SUMMARY:Wertstoffe
DESCRIPTION:
CLASS:PUBLIC
DTSTART;VALUE=DATE:20260810
DTSTART;VALUE=DATE:20260810
DTSTAMP:20260421T083036
END:VEVENT

BEGIN:VEVENT
UID:10122613.10143346.www.eppstein-pfalz.de
LOCATION:Abfallbezirk 16
SUMMARY:Altpapier
DESCRIPTION:
CLASS:PUBLIC
DTSTART;VALUE=DATE:20260814
DTSTART;VALUE=DATE:20260814
DTSTAMP:20260421T083036
END:VEVENT

BEGIN:VEVENT
UID:10122267.10143346.www.eppstein-pfalz.de
LOCATION:Abfallbezirk 14
SUMMARY:Bioabfall
DESCRIPTION:
CLASS:PUBLIC
DTSTART;VALUE=DATE:20260814
DTSTART;VALUE=DATE:20260814
DTSTAMP:20260421T083036
END:VEVENT

BEGIN:VEVENT
UID:10124439.10143346.www.eppstein-pfalz.de
LOCATION:DJK Eppstein
SUMMARY:Eppsteiner SeniorenTreff
DESCRIPTION:
CLASS:PUBLIC
DTSTART;TZID=CET:20260814T130000
DTEND;TZID=CET:20260814T130000
DTSTAMP:20260421T083036
END:VEVENT

BEGIN:VEVENT
UID:10122540.10143346.www.eppstein-pfalz.de
LOCATION:Abfallbezirk 16
SUMMARY:Bioabfall
DESCRIPTION:
CLASS:PUBLIC
DTSTART;VALUE=DATE:20260821
DTSTART;VALUE=DATE:20260821
DTSTAMP:20260421T083036
END:VEVENT

BEGIN:VEVENT
UID:10122341.10143346.www.eppstein-pfalz.de
LOCATION:Abfallbezirk 14
SUMMARY:Restabfall
DESCRIPTION:
CLASS:PUBLIC
DTSTART;VALUE=DATE:20260821
DTSTART;VALUE=DATE:20260821
DTSTAMP:20260421T083036
END:VEVENT

BEGIN:VEVENT
UID:10124318.10143346.www.eppstein-pfalz.de
LOCATION:Isenach Sporthalle
SUMMARY:Seniorennachmittag der AWO
DESCRIPTION:
CLASS:PUBLIC
DTSTART;TZID=CET:20260821T140000
DTEND;TZID=CET:20260821T140000
DTSTAMP:20260421T083036
END:VEVENT

BEGIN:VEVENT
UID:10122144.10143346.www.eppstein-pfalz.de
LOCATION:Abfallbezirke 14/16
SUMMARY:Wertstoffe
DESCRIPTION:
CLASS:PUBLIC
DTSTART;VALUE=DATE:20260824
DTSTART;VALUE=DATE:20260824
DTSTAMP:20260421T083036
END:VEVENT

BEGIN:VEVENT
UID:10122271.10143346.www.eppstein-pfalz.de
LOCATION:Abfallbezirk 14
SUMMARY:Bioabfall
DESCRIPTION:
CLASS:PUBLIC
DTSTART;VALUE=DATE:20260828
DTSTART;VALUE=DATE:20260828
DTSTAMP:20260421T083036
END:VEVENT

BEGIN:VEVENT
UID:10122458.10143346.www.eppstein-pfalz.de
LOCATION:Abfallbezirk 16
SUMMARY:Restabfall
DESCRIPTION:
CLASS:PUBLIC
DTSTART;VALUE=DATE:20260828
DTSTART;VALUE=DATE:20260828
DTSTAMP:20260421T083036
END:VEVENT

BEGIN:VEVENT
UID:10124320.10143346.www.eppstein-pfalz.de
LOCATION:TuS Flomersheim
SUMMARY:Seniorennachmittag der AWO
DESCRIPTION:Kerwe Leberknödel Essen  
CLASS:PUBLIC
DTSTART;TZID=CET:20260828T180000
DTEND;TZID=CET:20260828T180000
DTSTAMP:20260421T083036
END:VEVENT

BEGIN:VEVENT
UID:10122396.10143346.www.eppstein-pfalz.de
LOCATION:Abfallbezirk 14
SUMMARY:Altpapier
DESCRIPTION:
CLASS:PUBLIC
DTSTART;VALUE=DATE:20260904
DTSTART;VALUE=DATE:20260904
DTSTAMP:20260421T083036
END:VEVENT

BEGIN:VEVENT
UID:10122544.10143346.www.eppstein-pfalz.de
LOCATION:Abfallbezirk 16
SUMMARY:Bioabfall
DESCRIPTION:
CLASS:PUBLIC
DTSTART;VALUE=DATE:20260904
DTSTART;VALUE=DATE:20260904
DTSTAMP:20260421T083036
END:VEVENT

BEGIN:VEVENT
UID:10124322.10143346.www.eppstein-pfalz.de
LOCATION:Isenach Sporthalle
SUMMARY:Seniorennachmittag der AWO
DESCRIPTION:
CLASS:PUBLIC
DTSTART;TZID=CET:20260904T140000
DTEND;TZID=CET:20260904T140000
DTSTAMP:20260421T083036
END:VEVENT

BEGIN:VEVENT
UID:10122149.10143346.www.eppstein-pfalz.de
LOCATION:Abfallbezirke 14/16
SUMMARY:Wertstoffe
DESCRIPTION:
CLASS:PUBLIC
DTSTART;VALUE=DATE:20260907
DTSTART;VALUE=DATE:20260907
DTSTAMP:20260421T083036
END:VEVENT

BEGIN:VEVENT
UID:10122617.10143346.www.eppstein-pfalz.de
LOCATION:Abfallbezirk 16
SUMMARY:Altpapier
DESCRIPTION:
CLASS:PUBLIC
DTSTART;VALUE=DATE:20260911
DTSTART;VALUE=DATE:20260911
DTSTAMP:20260421T083036
END:VEVENT

BEGIN:VEVENT
UID:10122275.10143346.www.eppstein-pfalz.de
LOCATION:Abfallbezirk 14
SUMMARY:Bioabfall
DESCRIPTION:
CLASS:PUBLIC
DTSTART;VALUE=DATE:20260911
DTSTART;VALUE=DATE:20260911
DTSTAMP:20260421T083036
END:VEVENT

BEGIN:VEVENT
UID:10124437.10143346.www.eppstein-pfalz.de
LOCATION:DJK Eppstein
SUMMARY:Eppsteiner SeniorenTreff
DESCRIPTION:
CLASS:PUBLIC
DTSTART;TZID=CET:20260911T130000
DTEND;TZID=CET:20260911T130000
DTSTAMP:20260421T083036
END:VEVENT

BEGIN:VEVENT
UID:10122548.10143346.www.eppstein-pfalz.de
LOCATION:Abfallbezirk 16
SUMMARY:Bioabfall
DESCRIPTION:
CLASS:PUBLIC
DTSTART;VALUE=DATE:20260918
DTSTART;VALUE=DATE:20260918
DTSTAMP:20260421T083036
END:VEVENT

BEGIN:VEVENT
UID:10122345.10143346.www.eppstein-pfalz.de
LOCATION:Abfallbezirk 14
SUMMARY:Restabfall
DESCRIPTION:
CLASS:PUBLIC
DTSTART;VALUE=DATE:20260918
DTSTART;VALUE=DATE:20260918
DTSTAMP:20260421T083036
END:VEVENT

BEGIN:VEVENT
UID:10124324.10143346.www.eppstein-pfalz.de
LOCATION:Isenach Sporthalle
SUMMARY:Seniorennachmittag der AWO
DESCRIPTION:
CLASS:PUBLIC
DTSTART;TZID=CET:20260918T140000
DTEND;TZID=CET:20260918T140000
DTSTAMP:20260421T083036
END:VEVENT

BEGIN:VEVENT
UID:10122198.10143346.www.eppstein-pfalz.de
LOCATION:TSV Eppstein
SUMMARY:Schadstoffsammlung
DESCRIPTION:
CLASS:PUBLIC
DTSTART;TZID=CET:20260919T090000
DTEND;TZID=CET:20260919T140000
DTSTAMP:20260421T083036
END:VEVENT

BEGIN:VEVENT
UID:10122154.10143346.www.eppstein-pfalz.de
LOCATION:Abfallbezirke 14/16
SUMMARY:Wertstoffe
DESCRIPTION:
CLASS:PUBLIC
DTSTART;VALUE=DATE:20260921
DTSTART;VALUE=DATE:20260921
DTSTAMP:20260421T083036
END:VEVENT

BEGIN:VEVENT
UID:10122279.10143346.www.eppstein-pfalz.de
LOCATION:Abfallbezirk 14
SUMMARY:Bioabfall
DESCRIPTION:
CLASS:PUBLIC
DTSTART;VALUE=DATE:20260925
DTSTART;VALUE=DATE:20260925
DTSTAMP:20260421T083036
END:VEVENT

BEGIN:VEVENT
UID:10122462.10143346.www.eppstein-pfalz.de
LOCATION:Abfallbezirk 16
SUMMARY:Restabfall
DESCRIPTION:
CLASS:PUBLIC
DTSTART;VALUE=DATE:20260925
DTSTART;VALUE=DATE:20260925
DTSTAMP:20260421T083036
END:VEVENT

BEGIN:VEVENT
UID:10122400.10143346.www.eppstein-pfalz.de
LOCATION:Abfallbezirk 14
SUMMARY:Altpapier
DESCRIPTION:
CLASS:PUBLIC
DTSTART;VALUE=DATE:20261002
DTSTART;VALUE=DATE:20261002
DTSTAMP:20260421T083036
END:VEVENT

BEGIN:VEVENT
UID:10122552.10143346.www.eppstein-pfalz.de
LOCATION:Abfallbezirk 16
SUMMARY:Bioabfall
DESCRIPTION:
CLASS:PUBLIC
DTSTART;VALUE=DATE:20261002
DTSTART;VALUE=DATE:20261002
DTSTAMP:20260421T083036
END:VEVENT

BEGIN:VEVENT
UID:10124326.10143346.www.eppstein-pfalz.de
LOCATION:Isenach Sporthalle
SUMMARY:Seniorennachmittag der AWO Bunter Herbst
DESCRIPTION:
CLASS:PUBLIC
DTSTART;TZID=CET:20261002T140000
DTEND;TZID=CET:20261002T140000
DTSTAMP:20260421T083036
END:VEVENT

BEGIN:VEVENT
UID:10122159.10143346.www.eppstein-pfalz.de
LOCATION:Abfallbezirke 14/16
SUMMARY:Wertstoffe
DESCRIPTION:
CLASS:PUBLIC
DTSTART;VALUE=DATE:20261005
DTSTART;VALUE=DATE:20261005
DTSTAMP:20260421T083036
END:VEVENT

BEGIN:VEVENT
UID:10122621.10143346.www.eppstein-pfalz.de
LOCATION:Abfallbezirk 16
SUMMARY:Altpapier
DESCRIPTION:
CLASS:PUBLIC
DTSTART;VALUE=DATE:20261009
DTSTART;VALUE=DATE:20261009
DTSTAMP:20260421T083036
END:VEVENT

BEGIN:VEVENT
UID:10122283.10143346.www.eppstein-pfalz.de
LOCATION:Abfallbezirk 14
SUMMARY:Bioabfall
DESCRIPTION:
CLASS:PUBLIC
DTSTART;VALUE=DATE:20261009
DTSTART;VALUE=DATE:20261009
DTSTAMP:20260421T083036
END:VEVENT

BEGIN:VEVENT
UID:10124435.10143346.www.eppstein-pfalz.de
LOCATION:DJK Eppstein
SUMMARY:Eppsteiner SeniorenTreff
DESCRIPTION:
CLASS:PUBLIC
DTSTART;TZID=CET:20261009T130000
DTEND;TZID=CET:20261009T130000
DTSTAMP:20260421T083036
END:VEVENT

BEGIN:VEVENT
UID:10122556.10143346.www.eppstein-pfalz.de
LOCATION:Abfallbezirk 16
SUMMARY:Bioabfall
DESCRIPTION:
CLASS:PUBLIC
DTSTART;VALUE=DATE:20261016
DTSTART;VALUE=DATE:20261016
DTSTAMP:20260421T083036
END:VEVENT

BEGIN:VEVENT
UID:10122349.10143346.www.eppstein-pfalz.de
LOCATION:Abfallbezirk 14
SUMMARY:Restabfall
DESCRIPTION:
CLASS:PUBLIC
DTSTART;VALUE=DATE:20261016
DTSTART;VALUE=DATE:20261016
DTSTAMP:20260421T083036
END:VEVENT

BEGIN:VEVENT
UID:10124328.10143346.www.eppstein-pfalz.de
LOCATION:Isenach Sporthalle
SUMMARY:Seniorennachmittag der AWO
DESCRIPTION:
CLASS:PUBLIC
DTSTART;TZID=CET:20261016T140000
DTEND;TZID=CET:20261016T140000
DTSTAMP:20260421T083036
END:VEVENT

BEGIN:VEVENT
UID:10122164.10143346.www.eppstein-pfalz.de
LOCATION:Abfallbezirke 14/16
SUMMARY:Wertstoffe
DESCRIPTION:
CLASS:PUBLIC
DTSTART;VALUE=DATE:20261019
DTSTART;VALUE=DATE:20261019
DTSTAMP:20260421T083036
END:VEVENT

BEGIN:VEVENT
UID:10122287.10143346.www.eppstein-pfalz.de
LOCATION:Abfallbezirk 14
SUMMARY:Bioabfall
DESCRIPTION:
CLASS:PUBLIC
DTSTART;VALUE=DATE:20261023
DTSTART;VALUE=DATE:20261023
DTSTAMP:20260421T083036
END:VEVENT

BEGIN:VEVENT
UID:10122466.10143346.www.eppstein-pfalz.de
LOCATION:Abfallbezirk 16
SUMMARY:Restabfall
DESCRIPTION:
CLASS:PUBLIC
DTSTART;VALUE=DATE:20261023
DTSTART;VALUE=DATE:20261023
DTSTAMP:20260421T083036
END:VEVENT

BEGIN:VEVENT
UID:10122404.10143346.www.eppstein-pfalz.de
LOCATION:Abfallbezirk 14
SUMMARY:Altpapier
DESCRIPTION:
CLASS:PUBLIC
DTSTART;VALUE=DATE:20261030
DTSTART;VALUE=DATE:20261030
DTSTAMP:20260421T083036
END:VEVENT

BEGIN:VEVENT
UID:10122560.10143346.www.eppstein-pfalz.de
LOCATION:Abfallbezirk 16
SUMMARY:Bioabfall
DESCRIPTION:
CLASS:PUBLIC
DTSTART;VALUE=DATE:20261030
DTSTART;VALUE=DATE:20261030
DTSTAMP:20260421T083036
END:VEVENT

BEGIN:VEVENT
UID:10122169.10143346.www.eppstein-pfalz.de
LOCATION:Abfallbezirke 14/16
SUMMARY:Wertstoffe
DESCRIPTION:
CLASS:PUBLIC
DTSTART;VALUE=DATE:20261102
DTSTART;VALUE=DATE:20261102
DTSTAMP:20260421T083036
END:VEVENT

BEGIN:VEVENT
UID:10122625.10143346.www.eppstein-pfalz.de
LOCATION:Abfallbezirk 16
SUMMARY:Altpapier
DESCRIPTION:
CLASS:PUBLIC
DTSTART;VALUE=DATE:20261106
DTSTART;VALUE=DATE:20261106
DTSTAMP:20260421T083036
END:VEVENT

BEGIN:VEVENT
UID:10122291.10143346.www.eppstein-pfalz.de
LOCATION:Abfallbezirk 14
SUMMARY:Bioabfall
DESCRIPTION:
CLASS:PUBLIC
DTSTART;VALUE=DATE:20261106
DTSTART;VALUE=DATE:20261106
DTSTAMP:20260421T083036
END:VEVENT

BEGIN:VEVENT
UID:10124330.10143346.www.eppstein-pfalz.de
LOCATION:Isenach Sporthalle
SUMMARY:Seniorennachmittag der AWO
DESCRIPTION:
CLASS:PUBLIC
DTSTART;TZID=CET:20261106T140000
DTEND;TZID=CET:20261106T140000
DTSTAMP:20260421T083036
END:VEVENT

BEGIN:VEVENT
UID:10124332.10143346.www.eppstein-pfalz.de
LOCATION:DJK Eppstein
SUMMARY:Seniorennachmittag der AWO
DESCRIPTION:Martinsgansessen 
CLASS:PUBLIC
DTSTART;TZID=CET:20261111T120000
DTEND;TZID=CET:20261111T120000
DTSTAMP:20260421T083036
END:VEVENT

BEGIN:VEVENT
UID:10122564.10143346.www.eppstein-pfalz.de
LOCATION:Abfallbezirk 16
SUMMARY:Bioabfall
DESCRIPTION:
CLASS:PUBLIC
DTSTART;VALUE=DATE:20261113
DTSTART;VALUE=DATE:20261113
DTSTAMP:20260421T083036
END:VEVENT

BEGIN:VEVENT
UID:10122353.10143346.www.eppstein-pfalz.de
LOCATION:Abfallbezirk 14
SUMMARY:Restabfall
DESCRIPTION:
CLASS:PUBLIC
DTSTART;VALUE=DATE:20261113
DTSTART;VALUE=DATE:20261113
DTSTAMP:20260421T083036
END:VEVENT

BEGIN:VEVENT
UID:10124433.10143346.www.eppstein-pfalz.de
LOCATION:DJK Eppstein
SUMMARY:Eppsteiner SeniorenTreff
DESCRIPTION:
CLASS:PUBLIC
DTSTART;TZID=CET:20261113T130000
DTEND;TZID=CET:20261113T130000
DTSTAMP:20260421T083036
END:VEVENT

BEGIN:VEVENT
UID:10122201.10143346.www.eppstein-pfalz.de
LOCATION:TSV Eppstein
SUMMARY:Grünabfallsammlung mit Containern
DESCRIPTION:
CLASS:PUBLIC
DTSTART;TZID=CET:20261114T090000
DTEND;TZID=CET:20261114T140000
DTSTAMP:20260421T083036
END:VEVENT

BEGIN:VEVENT
UID:10122174.10143346.www.eppstein-pfalz.de
LOCATION:Abfallbezirke 14/16
SUMMARY:Wertstoffe
DESCRIPTION:
CLASS:PUBLIC
DTSTART;VALUE=DATE:20261116
DTSTART;VALUE=DATE:20261116
DTSTAMP:20260421T083036
END:VEVENT

BEGIN:VEVENT
UID:10122295.10143346.www.eppstein-pfalz.de
LOCATION:Abfallbezirk 14
SUMMARY:Bioabfall
DESCRIPTION:
CLASS:PUBLIC
DTSTART;VALUE=DATE:20261120
DTSTART;VALUE=DATE:20261120
DTSTAMP:20260421T083036
END:VEVENT

BEGIN:VEVENT
UID:10122470.10143346.www.eppstein-pfalz.de
LOCATION:Abfallbezirk 16
SUMMARY:Restabfall
DESCRIPTION:
CLASS:PUBLIC
DTSTART;VALUE=DATE:20261120
DTSTART;VALUE=DATE:20261120
DTSTAMP:20260421T083036
END:VEVENT

BEGIN:VEVENT
UID:10124334.10143346.www.eppstein-pfalz.de
LOCATION:Isenach Sporthalle
SUMMARY:Seniorennachmittag der AWO
DESCRIPTION:
CLASS:PUBLIC
DTSTART;TZID=CET:20261120T140000
DTEND;TZID=CET:20261120T140000
DTSTAMP:20260421T083036
END:VEVENT

BEGIN:VEVENT
UID:10122408.10143346.www.eppstein-pfalz.de
LOCATION:Abfallbezirk 14
SUMMARY:Altpapier
DESCRIPTION:
CLASS:PUBLIC
DTSTART;VALUE=DATE:20261127
DTSTART;VALUE=DATE:20261127
DTSTAMP:20260421T083036
END:VEVENT

BEGIN:VEVENT
UID:10122568.10143346.www.eppstein-pfalz.de
LOCATION:Abfallbezirk 16
SUMMARY:Bioabfall
DESCRIPTION:
CLASS:PUBLIC
DTSTART;VALUE=DATE:20261127
DTSTART;VALUE=DATE:20261127
DTSTAMP:20260421T083036
END:VEVENT

BEGIN:VEVENT
UID:10122179.10143346.www.eppstein-pfalz.de
LOCATION:Abfallbezirke 14/16
SUMMARY:Wertstoffe
DESCRIPTION:
CLASS:PUBLIC
DTSTART;VALUE=DATE:20261130
DTSTART;VALUE=DATE:20261130
DTSTAMP:20260421T083036
END:VEVENT

BEGIN:VEVENT
UID:10122629.10143346.www.eppstein-pfalz.de
LOCATION:Abfallbezirk 16
SUMMARY:Altpapier
DESCRIPTION:
CLASS:PUBLIC
DTSTART;VALUE=DATE:20261204
DTSTART;VALUE=DATE:20261204
DTSTAMP:20260421T083036
END:VEVENT

BEGIN:VEVENT
UID:10122299.10143346.www.eppstein-pfalz.de
LOCATION:Abfallbezirk 14
SUMMARY:Bioabfall
DESCRIPTION:
CLASS:PUBLIC
DTSTART;VALUE=DATE:20261204
DTSTART;VALUE=DATE:20261204
DTSTAMP:20260421T083036
END:VEVENT

BEGIN:VEVENT
UID:10124336.10143346.www.eppstein-pfalz.de
LOCATION:Isenach Sporthalle
SUMMARY:Seniorennachmittag der AWO
DESCRIPTION:
CLASS:PUBLIC
DTSTART;TZID=CET:20261204T140000
DTEND;TZID=CET:20261204T140000
DTSTAMP:20260421T083036
END:VEVENT

BEGIN:VEVENT
UID:10124354.10143346.www.eppstein-pfalz.de
LOCATION:DJK Eppstein
SUMMARY:Seniorennachmittag der AWO
DESCRIPTION:Weihnschtsfeier  
CLASS:PUBLIC
DTSTART;TZID=CET:20261209T120000
DTEND;TZID=CET:20261209T120000
DTSTAMP:20260421T083036
END:VEVENT

BEGIN:VEVENT
UID:10122572.10143346.www.eppstein-pfalz.de
LOCATION:Abfallbezirk 16
SUMMARY:Bioabfall
DESCRIPTION:
CLASS:PUBLIC
DTSTART;VALUE=DATE:20261211
DTSTART;VALUE=DATE:20261211
DTSTAMP:20260421T083036
END:VEVENT

BEGIN:VEVENT
UID:10122357.10143346.www.eppstein-pfalz.de
LOCATION:Abfallbezirk 14
SUMMARY:Restabfall
DESCRIPTION:
CLASS:PUBLIC
DTSTART;VALUE=DATE:20261211
DTSTART;VALUE=DATE:20261211
DTSTAMP:20260421T083036
END:VEVENT

BEGIN:VEVENT
UID:10124431.10143346.www.eppstein-pfalz.de
LOCATION:DJK Eppstein
SUMMARY:Eppsteiner SeniorenTreff
DESCRIPTION:
CLASS:PUBLIC
DTSTART;TZID=CET:20261211T130000
DTEND;TZID=CET:20261211T130000
DTSTAMP:20260421T083036
END:VEVENT

BEGIN:VEVENT
UID:10122184.10143346.www.eppstein-pfalz.de
LOCATION:Abfallbezirke 14/16
SUMMARY:Wertstoffe
DESCRIPTION:
CLASS:PUBLIC
DTSTART;VALUE=DATE:20261214
DTSTART;VALUE=DATE:20261214
DTSTAMP:20260421T083036
END:VEVENT

BEGIN:VEVENT
UID:10122303.10143346.www.eppstein-pfalz.de
LOCATION:Abfallbezirk 14
SUMMARY:Bioabfall
DESCRIPTION:
CLASS:PUBLIC
DTSTART;VALUE=DATE:20261218
DTSTART;VALUE=DATE:20261218
DTSTAMP:20260421T083036
END:VEVENT

BEGIN:VEVENT
UID:10122474.10143346.www.eppstein-pfalz.de
LOCATION:Abfallbezirk 16
SUMMARY:Restabfall
DESCRIPTION:
CLASS:PUBLIC
DTSTART;VALUE=DATE:20261218
DTSTART;VALUE=DATE:20261218
DTSTAMP:20260421T083036
END:VEVENT

BEGIN:VEVENT
UID:10124338.10143346.www.eppstein-pfalz.de
LOCATION:Isenach Sporthalle
SUMMARY:Seniorennachmittag der AWO
DESCRIPTION:Jahresabschluss 
CLASS:PUBLIC
DTSTART;TZID=CET:20261218T140000
DTEND;TZID=CET:20261218T140000
DTSTAMP:20260421T083036
END:VEVENT

BEGIN:VEVENT
UID:10122412.10143346.www.eppstein-pfalz.de
LOCATION:Abfallbezirk 14
SUMMARY:Altpapier
DESCRIPTION:
CLASS:PUBLIC
DTSTART;VALUE=DATE:20261224
DTSTART;VALUE=DATE:20261224
DTSTAMP:20260421T083036
END:VEVENT

BEGIN:VEVENT
UID:10122576.10143346.www.eppstein-pfalz.de
LOCATION:Abfallbezirk 16
SUMMARY:Bioabfall
DESCRIPTION:
CLASS:PUBLIC
DTSTART;VALUE=DATE:20261224
DTSTART;VALUE=DATE:20261224
DTSTAMP:20260421T083036
END:VEVENT

BEGIN:VEVENT
UID:10122189.10143346.www.eppstein-pfalz.de
LOCATION:Abfallbezirke 14/16
SUMMARY:Wertstoffe
DESCRIPTION:
CLASS:PUBLIC
DTSTART;VALUE=DATE:20261228
DTSTART;VALUE=DATE:20261228
DTSTAMP:20260421T083036
END:VEVENT

END:VCALENDAR